BEGIN:VCALENDAR
VERSION:2.0
PRODID:-//Le Blog du Canal | Ramonville Saint Agne - ECPv6.15.20//NONSGML v1.0//EN
CALSCALE:GREGORIAN
METHOD:PUBLISH
X-ORIGINAL-URL:https://blog-port-sud.fr
X-WR-CALDESC:Évènements pour Le Blog du Canal | Ramonville Saint Agne
REFRESH-INTERVAL;VALUE=DURATION:PT1H
X-Robots-Tag:noindex
X-PUBLISHED-TTL:PT1H
BEGIN:VTIMEZONE
TZID:Europe/Paris
BEGIN:DAYLIGHT
TZOFFSETFROM:+0100
TZOFFSETTO:+0200
TZNAME:CEST
DTSTART:20220327T010000
END:DAYLIGHT
BEGIN:STANDARD
TZOFFSETFROM:+0200
TZOFFSETTO:+0100
TZNAME:CET
DTSTART:20221030T010000
END:STANDARD
BEGIN:DAYLIGHT
TZOFFSETFROM:+0100
TZOFFSETTO:+0200
TZNAME:CEST
DTSTART:20230326T010000
END:DAYLIGHT
BEGIN:STANDARD
TZOFFSETFROM:+0200
TZOFFSETTO:+0100
TZNAME:CET
DTSTART:20231029T010000
END:STANDARD
BEGIN:DAYLIGHT
TZOFFSETFROM:+0100
TZOFFSETTO:+0200
TZNAME:CEST
DTSTART:20240331T010000
END:DAYLIGHT
BEGIN:STANDARD
TZOFFSETFROM:+0200
TZOFFSETTO:+0100
TZNAME:CET
DTSTART:20241027T010000
END:STANDARD
END:VTIMEZONE
BEGIN:VEVENT
DTSTART;TZID=Europe/Paris:20230624T160000
DTEND;TZID=Europe/Paris:20230624T233000
DTSTAMP:20260425T172116
CREATED:20230213T133515Z
LAST-MODIFIED:20230213T133700Z
UID:3287-1687622400-1687649400@blog-port-sud.fr
SUMMARY:Repas de Quartier et Fete de la Musique
DESCRIPTION:
URL:https://blog-port-sud.fr/event/repas-de-quartier-et-fete-de-la-musique/
LOCATION:Salle du Quartier\, 19 Avenue Emile Zola\, Ramonville Saint Agne\, 31520\, France
CATEGORIES:fetes
END:VEVENT
END:VCALENDAR