BEGIN:VCALENDAR
VERSION:2.0
PRODID:-//Le Blog du Canal | Ramonville Saint Agne - ECPv6.15.20//NONSGML v1.0//EN
CALSCALE:GREGORIAN
METHOD:PUBLISH
X-WR-CALNAME:Le Blog du Canal | Ramonville Saint Agne
X-ORIGINAL-URL:https://blog-port-sud.fr
X-WR-CALDESC:Évènements pour Le Blog du Canal | Ramonville Saint Agne
REFRESH-INTERVAL;VALUE=DURATION:PT1H
X-Robots-Tag:noindex
X-PUBLISHED-TTL:PT1H
BEGIN:VTIMEZONE
TZID:Europe/Paris
BEGIN:DAYLIGHT
TZOFFSETFROM:+0100
TZOFFSETTO:+0200
TZNAME:CEST
DTSTART:20250330T010000
END:DAYLIGHT
BEGIN:STANDARD
TZOFFSETFROM:+0200
TZOFFSETTO:+0100
TZNAME:CET
DTSTART:20251026T010000
END:STANDARD
BEGIN:DAYLIGHT
TZOFFSETFROM:+0100
TZOFFSETTO:+0200
TZNAME:CEST
DTSTART:20260329T010000
END:DAYLIGHT
BEGIN:STANDARD
TZOFFSETFROM:+0200
TZOFFSETTO:+0100
TZNAME:CET
DTSTART:20261025T010000
END:STANDARD
BEGIN:DAYLIGHT
TZOFFSETFROM:+0100
TZOFFSETTO:+0200
TZNAME:CEST
DTSTART:20270328T010000
END:DAYLIGHT
BEGIN:STANDARD
TZOFFSETFROM:+0200
TZOFFSETTO:+0100
TZNAME:CET
DTSTART:20271031T010000
END:STANDARD
END:VTIMEZONE
BEGIN:VEVENT
DTSTART;TZID=Europe/Paris:20260829T200000
DTEND;TZID=Europe/Paris:20260829T230000
DTSTAMP:20260422T170005
CREATED:20260420T114354Z
LAST-MODIFIED:20260420T114354Z
UID:3975-1788033600-1788044400@blog-port-sud.fr
SUMMARY:Ciné Plein Air
DESCRIPTION:
URL:https://blog-port-sud.fr/event/cine-plein-air/
LOCATION:Salle du Quartier\, 19 Avenue Emile Zola\, Ramonville Saint Agne\, 31520\, France
CATEGORIES:fetes
END:VEVENT
END:VCALENDAR