BEGIN:VCALENDAR
VERSION:2.0
PRODID:-//Le Blog du Canal | Ramonville Saint Agne - ECPv6.15.20//NONSGML v1.0//EN
CALSCALE:GREGORIAN
METHOD:PUBLISH
X-ORIGINAL-URL:https://blog-port-sud.fr
X-WR-CALDESC:Évènements pour Le Blog du Canal | Ramonville Saint Agne
REFRESH-INTERVAL;VALUE=DURATION:PT1H
X-Robots-Tag:noindex
X-PUBLISHED-TTL:PT1H
BEGIN:VTIMEZONE
TZID:Europe/Paris
BEGIN:DAYLIGHT
TZOFFSETFROM:+0100
TZOFFSETTO:+0200
TZNAME:CEST
DTSTART:20250330T010000
END:DAYLIGHT
BEGIN:STANDARD
TZOFFSETFROM:+0200
TZOFFSETTO:+0100
TZNAME:CET
DTSTART:20251026T010000
END:STANDARD
BEGIN:DAYLIGHT
TZOFFSETFROM:+0100
TZOFFSETTO:+0200
TZNAME:CEST
DTSTART:20260329T010000
END:DAYLIGHT
BEGIN:STANDARD
TZOFFSETFROM:+0200
TZOFFSETTO:+0100
TZNAME:CET
DTSTART:20261025T010000
END:STANDARD
BEGIN:DAYLIGHT
TZOFFSETFROM:+0100
TZOFFSETTO:+0200
TZNAME:CEST
DTSTART:20270328T010000
END:DAYLIGHT
BEGIN:STANDARD
TZOFFSETFROM:+0200
TZOFFSETTO:+0100
TZNAME:CET
DTSTART:20271031T010000
END:STANDARD
END:VTIMEZONE
BEGIN:VEVENT
DTSTART;TZID=Europe/Paris:20260507T160000
DTEND;TZID=Europe/Paris:20260507T190000
DTSTAMP:20260424T103824
CREATED:20260420T114950Z
LAST-MODIFIED:20260420T114950Z
UID:3977-1778169600-1778180400@blog-port-sud.fr
SUMMARY:le marché des Co.Pains du Port
DESCRIPTION:notre alimentation\, ses impacts sur la santé et sur le climat\, et sa dimension sociale et solidaire – en musique avec le duo Jukebox acoustic cover band.
URL:https://blog-port-sud.fr/event/le-marche-des-co-pains-du-port/
LOCATION:Salle du Quartier\, 19 Avenue Emile Zola\, Ramonville Saint Agne\, 31520\, France
CATEGORIES:Marché
END:VEVENT
END:VCALENDAR