BEGIN:VCALENDAR
VERSION:2.0
PRODID:-//Le Blog du Canal | Ramonville Saint Agne - ECPv6.15.18//NONSGML v1.0//EN
CALSCALE:GREGORIAN
METHOD:PUBLISH
X-ORIGINAL-URL:https://blog-port-sud.fr
X-WR-CALDESC:Évènements pour Le Blog du Canal | Ramonville Saint Agne
REFRESH-INTERVAL;VALUE=DURATION:PT1H
X-Robots-Tag:noindex
X-PUBLISHED-TTL:PT1H
BEGIN:VTIMEZONE
TZID:Europe/Paris
BEGIN:DAYLIGHT
TZOFFSETFROM:+0100
TZOFFSETTO:+0200
TZNAME:CEST
DTSTART:20180325T010000
END:DAYLIGHT
BEGIN:STANDARD
TZOFFSETFROM:+0200
TZOFFSETTO:+0100
TZNAME:CET
DTSTART:20181028T010000
END:STANDARD
BEGIN:DAYLIGHT
TZOFFSETFROM:+0100
TZOFFSETTO:+0200
TZNAME:CEST
DTSTART:20190331T010000
END:DAYLIGHT
BEGIN:STANDARD
TZOFFSETFROM:+0200
TZOFFSETTO:+0100
TZNAME:CET
DTSTART:20191027T010000
END:STANDARD
BEGIN:DAYLIGHT
TZOFFSETFROM:+0100
TZOFFSETTO:+0200
TZNAME:CEST
DTSTART:20200329T010000
END:DAYLIGHT
BEGIN:STANDARD
TZOFFSETFROM:+0200
TZOFFSETTO:+0100
TZNAME:CET
DTSTART:20201025T010000
END:STANDARD
BEGIN:DAYLIGHT
TZOFFSETFROM:+0100
TZOFFSETTO:+0200
TZNAME:CEST
DTSTART:20210328T010000
END:DAYLIGHT
BEGIN:STANDARD
TZOFFSETFROM:+0200
TZOFFSETTO:+0100
TZNAME:CET
DTSTART:20211031T010000
END:STANDARD
BEGIN:DAYLIGHT
TZOFFSETFROM:+0100
TZOFFSETTO:+0200
TZNAME:CEST
DTSTART:20220327T010000
END:DAYLIGHT
BEGIN:STANDARD
TZOFFSETFROM:+0200
TZOFFSETTO:+0100
TZNAME:CET
DTSTART:20221030T010000
END:STANDARD
BEGIN:DAYLIGHT
TZOFFSETFROM:+0100
TZOFFSETTO:+0200
TZNAME:CEST
DTSTART:20230326T010000
END:DAYLIGHT
BEGIN:STANDARD
TZOFFSETFROM:+0200
TZOFFSETTO:+0100
TZNAME:CET
DTSTART:20231029T010000
END:STANDARD
BEGIN:DAYLIGHT
TZOFFSETFROM:+0100
TZOFFSETTO:+0200
TZNAME:CEST
DTSTART:20240331T010000
END:DAYLIGHT
BEGIN:STANDARD
TZOFFSETFROM:+0200
TZOFFSETTO:+0100
TZNAME:CET
DTSTART:20241027T010000
END:STANDARD
BEGIN:DAYLIGHT
TZOFFSETFROM:+0100
TZOFFSETTO:+0200
TZNAME:CEST
DTSTART:20250330T010000
END:DAYLIGHT
BEGIN:STANDARD
TZOFFSETFROM:+0200
TZOFFSETTO:+0100
TZNAME:CET
DTSTART:20251026T010000
END:STANDARD
BEGIN:DAYLIGHT
TZOFFSETFROM:+0100
TZOFFSETTO:+0200
TZNAME:CEST
DTSTART:20260329T010000
END:DAYLIGHT
BEGIN:STANDARD
TZOFFSETFROM:+0200
TZOFFSETTO:+0100
TZNAME:CET
DTSTART:20261025T010000
END:STANDARD
END:VTIMEZONE
BEGIN:VEVENT
DTSTART;TZID=Europe/Paris:20250621T190000
DTEND;TZID=Europe/Paris:20250621T235900
DTSTAMP:20260419T165340
CREATED:20250303T105234Z
LAST-MODIFIED:20250303T105234Z
UID:3734-1750532400-1750550340@blog-port-sud.fr
SUMMARY:Repas de Quartier et Fète de la Musique
DESCRIPTION:
URL:https://blog-port-sud.fr/event/repas-de-quartier-et-fete-de-la-musique-2/
LOCATION:Salle du Quartier\, 19 Avenue Emile Zola\, Ramonville Saint Agne\, 31520\, France
CATEGORIES:fetes
END:VEVENT
BEGIN:VEVENT
DTSTART;TZID=Europe/Paris:20250612T203000
DTEND;TZID=Europe/Paris:20250612T223000
DTSTAMP:20260419T165340
CREATED:20250303T130720Z
LAST-MODIFIED:20250303T130720Z
UID:3758-1749760200-1749767400@blog-port-sud.fr
SUMMARY:Réunion du Conseil de Quartier du Canal
DESCRIPTION:
URL:https://blog-port-sud.fr/event/reunion-du-conseil-de-quartier-du-canal-5/
LOCATION:Salle du Quartier\, 19 Avenue Emile Zola\, Ramonville Saint Agne\, 31520\, France
CATEGORIES:Réunion-bureau
END:VEVENT
BEGIN:VEVENT
DTSTART;TZID=Europe/Paris:20250515T203000
DTEND;TZID=Europe/Paris:20250515T223000
DTSTAMP:20260419T165340
CREATED:20250303T105600Z
LAST-MODIFIED:20250303T105600Z
UID:3736-1747341000-1747348200@blog-port-sud.fr
SUMMARY:Réunion du Conseil de Quartier du Canal  – Mai 2025
DESCRIPTION:
URL:https://blog-port-sud.fr/event/reunion-du-conseil-de-quartier-du-canal-mai-2025/
LOCATION:Salle du Quartier\, 19 Avenue Emile Zola\, Ramonville Saint Agne\, 31520\, France
CATEGORIES:Réunion-bureau
END:VEVENT
BEGIN:VEVENT
DTSTART;TZID=Europe/Paris:20250410T203000
DTEND;TZID=Europe/Paris:20250410T223000
DTSTAMP:20260419T165340
CREATED:20250303T130637Z
LAST-MODIFIED:20250303T130637Z
UID:3756-1744317000-1744324200@blog-port-sud.fr
SUMMARY:Réunion du Conseil de Quartier du Canal
DESCRIPTION:
URL:https://blog-port-sud.fr/event/reunion-du-conseil-de-quartier-du-canal-4/
LOCATION:Salle du Quartier\, 19 Avenue Emile Zola\, Ramonville Saint Agne\, 31520\, France
CATEGORIES:Réunion-bureau
END:VEVENT
BEGIN:VEVENT
DTSTART;TZID=Europe/Paris:20250313T203000
DTEND;TZID=Europe/Paris:20250313T223000
DTSTAMP:20260419T165340
CREATED:20250303T105057Z
LAST-MODIFIED:20250303T105648Z
UID:3732-1741897800-1741905000@blog-port-sud.fr
SUMMARY:Réunion du Conseil de Quartier du Canal  – Mars 2025
DESCRIPTION:
URL:https://blog-port-sud.fr/event/compte-rendu-du-conseil-de-quartier-mars-2025/
LOCATION:Salle du Quartier\, 19 Avenue Emile Zola\, Ramonville Saint Agne\, 31520\, France
CATEGORIES:Réunion-bureau
END:VEVENT
BEGIN:VEVENT
DTSTART;TZID=Europe/Paris:20250213T203000
DTEND;TZID=Europe/Paris:20250213T223000
DTSTAMP:20260419T165340
CREATED:20250303T104855Z
LAST-MODIFIED:20250303T105722Z
UID:3730-1739478600-1739485800@blog-port-sud.fr
SUMMARY:Réunion du Conseil de Quartier du Canal – Février 2025
DESCRIPTION:
URL:https://blog-port-sud.fr/event/compte-rendu-du-conseil-de-quartier-fevrier-2025/
LOCATION:Salle du Quartier\, 19 Avenue Emile Zola\, Ramonville Saint Agne\, 31520\, France
CATEGORIES:Réunion-bureau
END:VEVENT
BEGIN:VEVENT
DTSTART;TZID=Europe/Paris:20250116T203000
DTEND;TZID=Europe/Paris:20250116T223000
DTSTAMP:20260419T165340
CREATED:20250303T104800Z
LAST-MODIFIED:20250303T105734Z
UID:3728-1737059400-1737066600@blog-port-sud.fr
SUMMARY:Réunion du Conseil de Quartier du Canal – Janvier 2025
DESCRIPTION:
URL:https://blog-port-sud.fr/event/compte-rendu-du-conseil-de-quartier-janvier-2025/
LOCATION:Salle du Quartier\, 19 Avenue Emile Zola\, Ramonville Saint Agne\, 31520\, France
CATEGORIES:Réunion-bureau
END:VEVENT
BEGIN:VEVENT
DTSTART;TZID=Europe/Paris:20240308T203000
DTEND;TZID=Europe/Paris:20240308T233000
DTSTAMP:20260419T165340
CREATED:20240225T145011Z
LAST-MODIFIED:20240225T145158Z
UID:3497-1709929800-1709940600@blog-port-sud.fr
SUMMARY:journée internationales des droits des femmes
DESCRIPTION:A l’occasion de la journée internationales des droits des femmes \nDimanche 10 mars 2024 : Balade au tempo du 8 mars va nous faire découvrir des femmes remarquables qui ont grandement contribuées à la compréhension de notre monde.\nVendredi 08 Mars 2024\, à 20h30\, à la ferme des 50\, Concert d’hiver du Canal
URL:https://blog-port-sud.fr/event/journee-internationales-des-droits-des-femmes/
CATEGORIES:fetes
END:VEVENT
BEGIN:VEVENT
DTSTART;TZID=Europe/Paris:20230624T160000
DTEND;TZID=Europe/Paris:20230624T233000
DTSTAMP:20260419T165340
CREATED:20230213T133515Z
LAST-MODIFIED:20230213T133700Z
UID:3287-1687622400-1687649400@blog-port-sud.fr
SUMMARY:Repas de Quartier et Fete de la Musique
DESCRIPTION:
URL:https://blog-port-sud.fr/event/repas-de-quartier-et-fete-de-la-musique/
LOCATION:Salle du Quartier\, 19 Avenue Emile Zola\, Ramonville Saint Agne\, 31520\, France
CATEGORIES:fetes
END:VEVENT
BEGIN:VEVENT
DTSTART;TZID=Europe/Paris:20230608T203000
DTEND;TZID=Europe/Paris:20230608T223000
DTSTAMP:20260419T165340
CREATED:20230613T123352Z
LAST-MODIFIED:20250303T125427Z
UID:3285-1686256200-1686263400@blog-port-sud.fr
SUMMARY:Réunion du Conseil de Quartier du Canal - Juin 2023
DESCRIPTION:
URL:https://blog-port-sud.fr/event/reunion-du-cq-du-canal-08-juin-2023/
LOCATION:Salle du Quartier\, 19 Avenue Emile Zola\, Ramonville Saint Agne\, 31520\, France
CATEGORIES:Réunion-bureau
END:VEVENT
BEGIN:VEVENT
DTSTART;TZID=Europe/Paris:20230511T203000
DTEND;TZID=Europe/Paris:20230511T223000
DTSTAMP:20260419T165340
CREATED:20230513T123015Z
LAST-MODIFIED:20250303T125453Z
UID:3283-1683837000-1683844200@blog-port-sud.fr
SUMMARY:Réunion du Conseil de Quartier du Canal - Mai 2023
DESCRIPTION:
URL:https://blog-port-sud.fr/event/reunion-du-cq-du-canal-11-mai-2023/
LOCATION:Salle du Quartier\, 19 Avenue Emile Zola\, Ramonville Saint Agne\, 31520\, France
CATEGORIES:Réunion-bureau
END:VEVENT
BEGIN:VEVENT
DTSTART;TZID=Europe/Paris:20230413T203000
DTEND;TZID=Europe/Paris:20230413T223000
DTSTAMP:20260419T165340
CREATED:20230413T122755Z
LAST-MODIFIED:20250303T125512Z
UID:3281-1681417800-1681425000@blog-port-sud.fr
SUMMARY:Réunion du Conseil de Quartier du Canal - Avril 2023
DESCRIPTION:
URL:https://blog-port-sud.fr/event/reunion-du-cq-du-canal-13-avril-2023/
LOCATION:Salle du Quartier\, 19 Avenue Emile Zola\, Ramonville Saint Agne\, 31520\, France
CATEGORIES:Réunion-bureau
END:VEVENT
BEGIN:VEVENT
DTSTART;TZID=Europe/Paris:20230309T203000
DTEND;TZID=Europe/Paris:20230309T223000
DTSTAMP:20260419T165340
CREATED:20230313T132452Z
LAST-MODIFIED:20250303T125530Z
UID:3279-1678393800-1678401000@blog-port-sud.fr
SUMMARY:Réunion du Conseil de Quartier du Canal - Mars 2023
DESCRIPTION:
URL:https://blog-port-sud.fr/event/reunion-du-cq-du-canal-09-mars-2023/
LOCATION:Salle du Quartier\, 19 Avenue Emile Zola\, Ramonville Saint Agne\, 31520\, France
CATEGORIES:Réunion-bureau
END:VEVENT
BEGIN:VEVENT
DTSTART;TZID=Europe/Paris:20221209T183000
DTEND;TZID=Europe/Paris:20221209T203000
DTSTAMP:20260419T165340
CREATED:20221001T173519Z
LAST-MODIFIED:20221001T173519Z
UID:3163-1670610600-1670617800@blog-port-sud.fr
SUMMARY:Arrivée du Père Noel à Port-Sud - 09 Décembre 2022
DESCRIPTION:
URL:https://blog-port-sud.fr/event/arrivee-du-pere-noel-a-port-sud-09-decembre-2022/
LOCATION:Salle du Quartier\, 19 Avenue Emile Zola\, Ramonville Saint Agne\, 31520\, France
CATEGORIES:fetes
END:VEVENT
BEGIN:VEVENT
DTSTART;TZID=Europe/Paris:20221117T200000
DTEND;TZID=Europe/Paris:20221117T223000
DTSTAMP:20260419T165340
CREATED:20221101T183339Z
LAST-MODIFIED:20250303T125549Z
UID:3161-1668715200-1668724200@blog-port-sud.fr
SUMMARY:Réunion du Conseil de Quartier du Canal - Bilan Annuel - 17 Novembre 2022
DESCRIPTION:
URL:https://blog-port-sud.fr/event/reunion-du-cq-du-canal-bilan-annuel-17-novembre-2022/
LOCATION:Salle du Quartier\, 19 Avenue Emile Zola\, Ramonville Saint Agne\, 31520\, France
CATEGORIES:Réunion-bureau
END:VEVENT
BEGIN:VEVENT
DTSTART;TZID=Europe/Paris:20221013T203000
DTEND;TZID=Europe/Paris:20221013T220000
DTSTAMP:20260419T165340
CREATED:20221001T173143Z
LAST-MODIFIED:20250303T125604Z
UID:3159-1665693000-1665698400@blog-port-sud.fr
SUMMARY:Réunion du Conseil de Quartier du Canal - Octobre 2022
DESCRIPTION:
URL:https://blog-port-sud.fr/event/reunion-du-cq-du-canal-13-octobre-2022/
LOCATION:Salle du Quartier\, 19 Avenue Emile Zola\, Ramonville Saint Agne\, 31520\, France
CATEGORIES:Réunion-bureau
END:VEVENT
BEGIN:VEVENT
DTSTART;TZID=Europe/Paris:20220616T203000
DTEND;TZID=Europe/Paris:20220616T223000
DTSTAMP:20260419T165340
CREATED:20210622T124854Z
LAST-MODIFIED:20250303T125621Z
UID:2945-1655411400-1655418600@blog-port-sud.fr
SUMMARY:Réunion du Conseil de Quartier du Canal - Juin 2022
DESCRIPTION:
URL:https://blog-port-sud.fr/event/reunion-du-cq-du-canal-16-juin-2022/
LOCATION:Salle du Quartier\, 19 Avenue Emile Zola\, Ramonville Saint Agne\, 31520\, France
CATEGORIES:Réunion-bureau
END:VEVENT
BEGIN:VEVENT
DTSTART;TZID=Europe/Paris:20220519T203000
DTEND;TZID=Europe/Paris:20220519T223000
DTSTAMP:20260419T165340
CREATED:20220522T124757Z
LAST-MODIFIED:20250303T125645Z
UID:2943-1652992200-1652999400@blog-port-sud.fr
SUMMARY:Réunion du Conseil de Quartier du Canal - Mai 2022
DESCRIPTION:
URL:https://blog-port-sud.fr/event/reunion-du-cq-du-canal-19-mai-2022/
LOCATION:Salle du Quartier\, 19 Avenue Emile Zola\, Ramonville Saint Agne\, 31520\, France
CATEGORIES:Réunion-bureau
END:VEVENT
BEGIN:VEVENT
DTSTART;TZID=Europe/Paris:20220414T203000
DTEND;TZID=Europe/Paris:20220414T223000
DTSTAMP:20260419T165340
CREATED:20220422T124635Z
LAST-MODIFIED:20250303T125705Z
UID:2941-1649968200-1649975400@blog-port-sud.fr
SUMMARY:Réunion du Conseil de Quartier du Canal - Avril 2022
DESCRIPTION:
URL:https://blog-port-sud.fr/event/reunion-du-cq-du-canal-14-avril-2022/
LOCATION:Salle du Quartier\, 19 Avenue Emile Zola\, Ramonville Saint Agne\, 31520\, France
CATEGORIES:Réunion-bureau
END:VEVENT
BEGIN:VEVENT
DTSTART;TZID=Europe/Paris:20220317T203000
DTEND;TZID=Europe/Paris:20220317T223000
DTSTAMP:20260419T165340
CREATED:20220322T134533Z
LAST-MODIFIED:20250303T125725Z
UID:2939-1647549000-1647556200@blog-port-sud.fr
SUMMARY:Réunion du Conseil de Quartier du Canal - Mars 2022
DESCRIPTION:
URL:https://blog-port-sud.fr/event/reunion-du-cq-du-canal-17-mars-2022/
LOCATION:Salle du Quartier\, 19 Avenue Emile Zola\, Ramonville Saint Agne\, 31520\, France
CATEGORIES:Réunion-bureau
END:VEVENT
BEGIN:VEVENT
DTSTART;TZID=Europe/Paris:20220217T203000
DTEND;TZID=Europe/Paris:20220217T223000
DTSTAMP:20260419T165340
CREATED:20220222T134431Z
LAST-MODIFIED:20250303T125744Z
UID:2937-1645129800-1645137000@blog-port-sud.fr
SUMMARY:Réunion du Conseil de Quartier du Canal - Février 2022
DESCRIPTION:
URL:https://blog-port-sud.fr/event/reunion-du-cq-du-canal-17-fevrier-2022/
LOCATION:Salle du Quartier\, 19 Avenue Emile Zola\, Ramonville Saint Agne\, 31520\, France
CATEGORIES:Réunion-bureau
END:VEVENT
BEGIN:VEVENT
DTSTART;TZID=Europe/Paris:20220120T203000
DTEND;TZID=Europe/Paris:20220120T223000
DTSTAMP:20260419T165340
CREATED:20220122T134222Z
LAST-MODIFIED:20250303T125802Z
UID:2935-1642710600-1642717800@blog-port-sud.fr
SUMMARY:Réunion du Conseil de Quartier du Canal - Janvier 2022
DESCRIPTION:
URL:https://blog-port-sud.fr/event/reunion-du-cq-du-canal-20-janvier-2022/
LOCATION:Salle du Quartier\, 19 Avenue Emile Zola\, Ramonville Saint Agne\, 31520\, France
CATEGORIES:Réunion-bureau
END:VEVENT
BEGIN:VEVENT
DTSTART;TZID=Europe/Paris:20211216T203000
DTEND;TZID=Europe/Paris:20211216T223000
DTSTAMP:20260419T165340
CREATED:20221222T132534Z
LAST-MODIFIED:20250303T125845Z
UID:2929-1639686600-1639693800@blog-port-sud.fr
SUMMARY:Réunion du Conseil de Quartier du Canal - Décembre 2021 - Annulée
DESCRIPTION:Réunion Annulée 
URL:https://blog-port-sud.fr/event/reunion-du-cq-du-canal-16-decembre-2021/
LOCATION:Salle du Quartier\, 19 Avenue Emile Zola\, Ramonville Saint Agne\, 31520\, France
CATEGORIES:Réunion-bureau
END:VEVENT
BEGIN:VEVENT
DTSTART;TZID=Europe/Paris:20211216T173000
DTEND;TZID=Europe/Paris:20211216T213000
DTSTAMP:20260419T165340
CREATED:20211126T160031Z
LAST-MODIFIED:20211126T160054Z
UID:2977-1639675800-1639690200@blog-port-sud.fr
SUMMARY:Arrivée du Père Noel à Port-Sud
DESCRIPTION:
URL:https://blog-port-sud.fr/event/arrivee-du-pere-noel-a-port-sud/
LOCATION:Salle du Quartier\, 19 Avenue Emile Zola\, Ramonville Saint Agne\, 31520\, France
CATEGORIES:fetes
END:VEVENT
BEGIN:VEVENT
DTSTART;TZID=Europe/Paris:20211118T203000
DTEND;TZID=Europe/Paris:20211118T223000
DTSTAMP:20260419T165340
CREATED:20211122T132248Z
LAST-MODIFIED:20250303T125900Z
UID:2927-1637267400-1637274600@blog-port-sud.fr
SUMMARY:Réunion du Conseil de Quartier du Canal - Novembre 2021
DESCRIPTION:
URL:https://blog-port-sud.fr/event/reunion-du-cq-du-canal-18-novembre-2021/
LOCATION:Salle du Quartier\, 19 Avenue Emile Zola\, Ramonville Saint Agne\, 31520\, France
CATEGORIES:Réunion-bureau
END:VEVENT
BEGIN:VEVENT
DTSTART;TZID=Europe/Paris:20210903T190000
DTEND;TZID=Europe/Paris:20210903T230000
DTSTAMP:20260419T165340
CREATED:20210623T042143Z
LAST-MODIFIED:20210623T042206Z
UID:2840-1630695600-1630710000@blog-port-sud.fr
SUMMARY:Fete du Cinéma et repas de Quartier
DESCRIPTION:
URL:https://blog-port-sud.fr/event/fete-du-cinema-et-repas-de-quartier/
LOCATION:Salle du Quartier\, 19 Avenue Emile Zola\, Ramonville Saint Agne\, 31520\, France
CATEGORIES:fetes
END:VEVENT
BEGIN:VEVENT
DTSTART;TZID=Europe/Paris:20210415T203000
DTEND;TZID=Europe/Paris:20210415T220000
DTSTAMP:20260419T165340
CREATED:20210111T211146Z
LAST-MODIFIED:20211022T122721Z
UID:2750-1618518600-1618524000@blog-port-sud.fr
SUMMARY:Réunion du Conseil de Quartier du Canal
DESCRIPTION:Dates conseil quartier canal
URL:https://blog-port-sud.fr/event/reunion-du-conseil-de-quartier-du-canal-3/
LOCATION:Salle du Quartier\, 19 Avenue Emile Zola\, Ramonville Saint Agne\, 31520\, France
CATEGORIES:Réunion-bureau,réunions
END:VEVENT
BEGIN:VEVENT
DTSTART;TZID=Europe/Paris:20210318T203000
DTEND;TZID=Europe/Paris:20210318T220000
DTSTAMP:20260419T165340
CREATED:20210111T211022Z
LAST-MODIFIED:20210111T211022Z
UID:2748-1616099400-1616104800@blog-port-sud.fr
SUMMARY:Réunion du Conseil de Quartier du Canal
DESCRIPTION:Dates conseil quartier canal
URL:https://blog-port-sud.fr/event/reunion-du-conseil-de-quartier-du-canal-2/
LOCATION:Salle du Quartier\, 19 Avenue Emile Zola\, Ramonville Saint Agne\, 31520\, France
CATEGORIES:Réunion-bureau,réunions
END:VEVENT
BEGIN:VEVENT
DTSTART;TZID=Europe/Paris:20210204T203000
DTEND;TZID=Europe/Paris:20210204T220000
DTSTAMP:20260419T165340
CREATED:20210111T210716Z
LAST-MODIFIED:20210111T210837Z
UID:2744-1612470600-1612476000@blog-port-sud.fr
SUMMARY:Réunion du Conseil de Quartier du Canal
DESCRIPTION:Dates conseil quartier canal
URL:https://blog-port-sud.fr/event/reunion-du-conseil-de-quartier-du-canal/
LOCATION:Salle du Quartier\, 19 Avenue Emile Zola\, Ramonville Saint Agne\, 31520\, France
CATEGORIES:Réunion-bureau,réunions
END:VEVENT
BEGIN:VEVENT
DTSTART;TZID=Europe/Paris:20191205T183000
DTEND;TZID=Europe/Paris:20191205T200000
DTSTAMP:20260419T165340
CREATED:20190726T091622Z
LAST-MODIFIED:20250303T130526Z
UID:2422-1575570600-1575576000@blog-port-sud.fr
SUMMARY:Réunion du Conseil de Quartier du Canal - Décembre 2019
DESCRIPTION:
URL:https://blog-port-sud.fr/event/reunion-du-bureau-du-conseil-de-quartier-du-canal-14/
LOCATION:Salle du Quartier\, 19 Avenue Emile Zola\, Ramonville Saint Agne\, 31520\, France
CATEGORIES:Réunion-bureau,réunions
END:VEVENT
END:VCALENDAR